BEGIN:VCALENDAR
VERSION:2.0
PRODID:-//Faith Bible Church New Plymouth - ECPv4.7.1//NONSGML v1.0//EN
CALSCALE:GREGORIAN
METHOD:PUBLISH
X-WR-CALNAME:Faith Bible Church New Plymouth
X-ORIGINAL-URL:https://faithbiblechurch.nz
X-WR-CALDESC:Events for Faith Bible Church New Plymouth
BEGIN:VEVENT
DTSTART;TZID=UTC+12:20180909T090000
DTEND;TZID=UTC+12:20180909T100000
DTSTAMP:20181221T205625
CREATED:20180207T022951Z
LAST-MODIFIED:20180207T023656Z
UID:1620-1536483600-1536487200@faithbiblechurch.nz
SUMMARY:Equipping Hour
DESCRIPTION:You’ve never experienced Bible teaching like this. Each Sunday we meet for an hour over coffee for a time of interactive teaching. Explore the riches of scripture with us\, take notes and grow as we grapple with what God calls us to be and believe.  \n
URL:https://faithbiblechurch.nz/event/equipping-hour-2018-09-09/
LOCATION:Senior Citizens Hall\, 27-33 Liardet Street\, New Plymouth\, New Zealand
END:VEVENT
END:VCALENDAR