BEGIN:VCALENDAR
VERSION:2.0
PRODID:-//Faith Bible Church New Plymouth - ECPv4.7.1//NONSGML v1.0//EN
CALSCALE:GREGORIAN
METHOD:PUBLISH
X-WR-CALNAME:Faith Bible Church New Plymouth
X-ORIGINAL-URL:https://faithbiblechurch.nz
X-WR-CALDESC:Events for Faith Bible Church New Plymouth
BEGIN:VEVENT
DTSTART;TZID=UTC+12:20170311T063000
DTEND;TZID=UTC+12:20170311T080000
DTSTAMP:20181221T205341
CREATED:20170228T062748Z
LAST-MODIFIED:20170228T062748Z
UID:672-1489213800-1489219200@faithbiblechurch.nz
SUMMARY:Ironmen
DESCRIPTION:Ironmen is focused on sharpening our men to walk in a manner pleasing to the Lord. We are currently reading The Disciplines of a Godly Man by R. Kent Hughes. \n
URL:https://faithbiblechurch.nz/event/ironmen-2017-03-11/
LOCATION:Marshall Home\, New Plymouth\, New Zealand
END:VEVENT
END:VCALENDAR