BEGIN:VCALENDAR
VERSION:2.0
PRODID:-//Faith Bible Church New Plymouth - ECPv4.7.1//NONSGML v1.0//EN
CALSCALE:GREGORIAN
METHOD:PUBLISH
X-WR-CALNAME:Faith Bible Church New Plymouth
X-ORIGINAL-URL:https://faithbiblechurch.nz
X-WR-CALDESC:Events for Faith Bible Church New Plymouth
BEGIN:VEVENT
DTSTART;TZID=UTC+12:20180905T210000
DTEND;TZID=UTC+12:20180905T230000
DTSTAMP:20181221T205603
CREATED:20170227T174327Z
LAST-MODIFIED:20180207T022501Z
UID:1289-1536181200-1536188400@faithbiblechurch.nz
SUMMARY:Walking & Coffee Group
DESCRIPTION:Enjoy a walk and fellowship with us over coffee each week. \nWe walk for around an hour and then continue our fellowship over a good cup of coffee (around 10am) in a nearby café. \nIn the case of inclement weather\, we generally head directly for the coffee shop at 9am. \n
URL:https://faithbiblechurch.nz/event/walking-coffee-group-2018-09-05/
LOCATION:East End Reserve\, Nobs Line\, New Plymouth\, Taranaki\, 4310\, New Zealand
END:VEVENT
END:VCALENDAR